BEGIN:VCALENDAR
VERSION:2.0
PRODID:-//Wystawa Wodorowa - ECPv6.15.20//NONSGML v1.0//EN
CALSCALE:GREGORIAN
METHOD:PUBLISH
X-WR-CALNAME:Wystawa Wodorowa
X-ORIGINAL-URL:https://www.wodor.edu.pl
X-WR-CALDESC:Wydarzenia dla Wystawa Wodorowa
REFRESH-INTERVAL;VALUE=DURATION:PT1H
X-Robots-Tag:noindex
X-PUBLISHED-TTL:PT1H
BEGIN:VTIMEZONE
TZID:Europe/Warsaw
BEGIN:DAYLIGHT
TZOFFSETFROM:+0100
TZOFFSETTO:+0200
TZNAME:CEST
DTSTART:20210328T010000
END:DAYLIGHT
BEGIN:STANDARD
TZOFFSETFROM:+0200
TZOFFSETTO:+0100
TZNAME:CET
DTSTART:20211031T010000
END:STANDARD
BEGIN:DAYLIGHT
TZOFFSETFROM:+0100
TZOFFSETTO:+0200
TZNAME:CEST
DTSTART:20220327T010000
END:DAYLIGHT
BEGIN:STANDARD
TZOFFSETFROM:+0200
TZOFFSETTO:+0100
TZNAME:CET
DTSTART:20221030T010000
END:STANDARD
BEGIN:DAYLIGHT
TZOFFSETFROM:+0100
TZOFFSETTO:+0200
TZNAME:CEST
DTSTART:20230326T010000
END:DAYLIGHT
BEGIN:STANDARD
TZOFFSETFROM:+0200
TZOFFSETTO:+0100
TZNAME:CET
DTSTART:20231029T010000
END:STANDARD
BEGIN:DAYLIGHT
TZOFFSETFROM:+0100
TZOFFSETTO:+0200
TZNAME:CEST
DTSTART:20240331T010000
END:DAYLIGHT
BEGIN:STANDARD
TZOFFSETFROM:+0200
TZOFFSETTO:+0100
TZNAME:CET
DTSTART:20241027T010000
END:STANDARD
END:VTIMEZONE
BEGIN:VEVENT
DTSTART;TZID=Europe/Warsaw:20230603T090000
DTEND;TZID=Europe/Warsaw:20230603T170000
DTSTAMP:20260423T165352
CREATED:20230424T043158Z
LAST-MODIFIED:20230518T131830Z
UID:14953-1685782800-1685811600@www.wodor.edu.pl
SUMMARY:Poznaj wodór: Krajowe Dni Pola - Sielinko 2023
DESCRIPTION:Skorzystaj z formularza rezerwacji dla grupy zorganizowanej…
URL:https://www.wodor.edu.pl/spotkanie/poznaj-wodor-sielinko/
LOCATION:Strefa Energii dla Rolnictwa
CATEGORIES:Showroom 2023
ORGANIZER;CN="Samorz%C4%85d Wojew%C3%B3dztwa Wielkopolskiego":MAILTO:h2wielkopolska@umww.pl
END:VEVENT
BEGIN:VEVENT
DTSTART;TZID=Europe/Warsaw:20230602T070000
DTEND;TZID=Europe/Warsaw:20230602T150000
DTSTAMP:20260423T165352
CREATED:20230424T043114Z
LAST-MODIFIED:20230519T191824Z
UID:14951-1685689200-1685718000@www.wodor.edu.pl
SUMMARY:Poznaj wodór: Bojanowo
DESCRIPTION:Skorzystaj z formularza rezerwacji dla grupy zorganizowanej…
URL:https://www.wodor.edu.pl/spotkanie/poznaj-wodor-bojanowo/
LOCATION:Szkoła Podstawowa\, ul. Lipowa 2\, Bojanowo
CATEGORIES:Showroom 2023
ORGANIZER;CN="Samorz%C4%85d Wojew%C3%B3dztwa Wielkopolskiego":MAILTO:h2wielkopolska@umww.pl
END:VEVENT
BEGIN:VEVENT
DTSTART;TZID=Europe/Warsaw:20230601T100000
DTEND;TZID=Europe/Warsaw:20230601T180000
DTSTAMP:20260423T165352
CREATED:20230424T043036Z
LAST-MODIFIED:20230426T062019Z
UID:14948-1685613600-1685642400@www.wodor.edu.pl
SUMMARY:Poznaj wodór: Śrem
DESCRIPTION:Skorzystaj z formularza rezerwacji dla grupy zorganizowanej…
URL:https://www.wodor.edu.pl/spotkanie/poznaj-wodor-srem/
LOCATION:REHAU Football Park\, Zamenhofa\, Śrem
CATEGORIES:Showroom 2023
ORGANIZER;CN="Samorz%C4%85d Wojew%C3%B3dztwa Wielkopolskiego":MAILTO:h2wielkopolska@umww.pl
END:VEVENT
BEGIN:VEVENT
DTSTART;TZID=Europe/Warsaw:20230531T100000
DTEND;TZID=Europe/Warsaw:20230531T180000
DTSTAMP:20260423T165352
CREATED:20230424T042806Z
LAST-MODIFIED:20230519T191443Z
UID:14946-1685527200-1685556000@www.wodor.edu.pl
SUMMARY:Poznaj wodór: Słupca
DESCRIPTION:Skorzystaj z formularza rezerwacji dla grupy zorganizowanej…
URL:https://www.wodor.edu.pl/spotkanie/poznaj-wodor-slupca/
LOCATION:Hala MOSiR\, ul. Kopernika 13\, Słupca
CATEGORIES:Showroom 2023
ORGANIZER;CN="Samorz%C4%85d Wojew%C3%B3dztwa Wielkopolskiego":MAILTO:h2wielkopolska@umww.pl
END:VEVENT
BEGIN:VEVENT
DTSTART;TZID=Europe/Warsaw:20230530T100000
DTEND;TZID=Europe/Warsaw:20230530T180000
DTSTAMP:20260423T165352
CREATED:20230424T042639Z
LAST-MODIFIED:20230426T062039Z
UID:14942-1685440800-1685469600@www.wodor.edu.pl
SUMMARY:Poznaj wodór: Chodzież
DESCRIPTION:Skorzystaj z formularza rezerwacji dla grupy zorganizowanej…
URL:https://www.wodor.edu.pl/spotkanie/poznaj-wodor-chodziez/
LOCATION:Szkoła Podstawowa nr 1 w Chodzieży\, ul. Staszica 19\, Chodzież\, 64-800\, Poland
CATEGORIES:Showroom 2023
ORGANIZER;CN="Samorz%C4%85d Wojew%C3%B3dztwa Wielkopolskiego":MAILTO:h2wielkopolska@umww.pl
END:VEVENT
BEGIN:VEVENT
DTSTART;TZID=Europe/Warsaw:20230517T120000
DTEND;TZID=Europe/Warsaw:20230517T200000
DTSTAMP:20260423T165352
CREATED:20230411T171958Z
LAST-MODIFIED:20230501T105924Z
UID:14899-1684324800-1684353600@www.wodor.edu.pl
SUMMARY:Poznaj wodór: Poznań\, dzień 2
DESCRIPTION:Dowiecie się dlaczego zielone\, zero-emisyjne źródła energii są takie ważne. Zobaczycie i poznacie sprzęt\, który korzysta z wodoru jako paliwa. Dodatkowo będziecie mogli wziąć udział w mnóstwie interaktywnych zabaw\, konkursów\, atrakcji dla najmłodszych ( w tym strefa niesamowitych eksperymentów) Będą czekać na Was stoiska partnerskie\, ciekawe prelekcje\, spotkania z ludźmi\, którzy działają i stawiają na rozwiązania wodorowe. \nRezerwacja dla grup zorganizowanych / szkół: \nŁaduję…
URL:https://www.wodor.edu.pl/spotkanie/poznaj-wodor-poznan-2/
LOCATION:Stary Port\, Stary Port\, Poznań\, Poland
CATEGORIES:Roadshow 2023
ORGANIZER;CN="Samorz%C4%85d Wojew%C3%B3dztwa Wielkopolskiego":MAILTO:h2wielkopolska@umww.pl
END:VEVENT
BEGIN:VEVENT
DTSTART;TZID=Europe/Warsaw:20230516T120000
DTEND;TZID=Europe/Warsaw:20230516T200000
DTSTAMP:20260423T165352
CREATED:20230407T210108Z
LAST-MODIFIED:20230501T105754Z
UID:14881-1684238400-1684267200@www.wodor.edu.pl
SUMMARY:Poznaj wodór: Poznań\, dzień 1
DESCRIPTION:Dowiecie się dlaczego zielone\, zero-emisyjne źródła energii są takie ważne. Zobaczycie i poznacie sprzęt\, który korzysta z wodoru jako paliwa. Dodatkowo będziecie mogli wziąć udział w mnóstwie interaktywnych zabaw\, konkursów\, atrakcji dla najmłodszych ( w tym strefa niesamowitych eksperymentów) Będą czekać na Was stoiska partnerskie\, ciekawe prelekcje\, spotkania z ludźmi\, którzy działają i stawiają na rozwiązania wodorowe. \nRezerwacja dla grup zorganizowanych / szkół: \nŁaduję…
URL:https://www.wodor.edu.pl/spotkanie/poznaj-wodor-poznan-2-2/
LOCATION:Stary Port\, Stary Port\, Poznań\, Poland
CATEGORIES:Roadshow 2023
ORGANIZER;CN="Samorz%C4%85d Wojew%C3%B3dztwa Wielkopolskiego":MAILTO:h2wielkopolska@umww.pl
END:VEVENT
BEGIN:VEVENT
DTSTART;TZID=Europe/Warsaw:20230513T110000
DTEND;TZID=Europe/Warsaw:20230513T190000
DTSTAMP:20260423T165352
CREATED:20230411T172140Z
LAST-MODIFIED:20230418T115543Z
UID:14905-1683975600-1684004400@www.wodor.edu.pl
SUMMARY:Poznaj wodór: Piła\, dzień 2
DESCRIPTION:Dowiecie się dlaczego zielone\, zero-emisyjne źródła energii są takie ważne. Zobaczycie i poznacie sprzęt\, który korzysta z wodoru jako paliwa. Dodatkowo będziecie mogli wziąć udział w mnóstwie interaktywnych zabaw\, konkursów\, atrakcji dla najmłodszych ( w tym strefa niesamowitych eksperymentów) Będą czekać na Was stoiska partnerskie\, ciekawe prelekcje\, spotkania z ludźmi\, którzy działają i stawiają na rozwiązania wodorowe. \nRezerwacja dla grup zorganizowanych / szkół: \nŁaduję…
URL:https://www.wodor.edu.pl/spotkanie/poznaj-wodor-pila-2/
LOCATION:Piła\, Plac Zwycięstwa\, Piła\, Poland
CATEGORIES:Roadshow 2023
ORGANIZER;CN="Samorz%C4%85d Wojew%C3%B3dztwa Wielkopolskiego":MAILTO:h2wielkopolska@umww.pl
END:VEVENT
BEGIN:VEVENT
DTSTART;TZID=Europe/Warsaw:20230512T110000
DTEND;TZID=Europe/Warsaw:20230512T190000
DTSTAMP:20260423T165352
CREATED:20230407T210409Z
LAST-MODIFIED:20230418T115522Z
UID:14889-1683889200-1683918000@www.wodor.edu.pl
SUMMARY:Poznaj wodór: Piła\, dzień 1
DESCRIPTION:Dowiecie się dlaczego zielone\, zero-emisyjne źródła energii są takie ważne. Zobaczycie i poznacie sprzęt\, który korzysta z wodoru jako paliwa. Dodatkowo będziecie mogli wziąć udział w mnóstwie interaktywnych zabaw\, konkursów\, atrakcji dla najmłodszych ( w tym strefa niesamowitych eksperymentów) Będą czekać na Was stoiska partnerskie\, ciekawe prelekcje\, spotkania z ludźmi\, którzy działają i stawiają na rozwiązania wodorowe. \nRezerwacja dla grup zorganizowanych / szkół: \nŁaduję…
URL:https://www.wodor.edu.pl/spotkanie/poznaj-wodor-pila-2-2/
LOCATION:Piła\, Plac Zwycięstwa\, Piła\, Poland
CATEGORIES:Roadshow 2023
ORGANIZER;CN="Samorz%C4%85d Wojew%C3%B3dztwa Wielkopolskiego":MAILTO:h2wielkopolska@umww.pl
END:VEVENT
BEGIN:VEVENT
DTSTART;TZID=Europe/Warsaw:20230510T110000
DTEND;TZID=Europe/Warsaw:20230510T190000
DTSTAMP:20260423T165352
CREATED:20230411T172056Z
LAST-MODIFIED:20230418T115534Z
UID:14902-1683716400-1683745200@www.wodor.edu.pl
SUMMARY:Poznaj wodór: Leszno\, dzień 2
DESCRIPTION:Dowiecie się dlaczego zielone\, zero-emisyjne źródła energii są takie ważne. Zobaczycie i poznacie sprzęt\, który korzysta z wodoru jako paliwa. Dodatkowo będziecie mogli wziąć udział w mnóstwie interaktywnych zabaw\, konkursów\, atrakcji dla najmłodszych ( w tym strefa niesamowitych eksperymentów) Będą czekać na Was stoiska partnerskie\, ciekawe prelekcje\, spotkania z ludźmi\, którzy działają i stawiają na rozwiązania wodorowe. \nRezerwacja dla grup zorganizowanych / szkół: \nŁaduję…
URL:https://www.wodor.edu.pl/spotkanie/poznaj-wodor-leszno-2/
LOCATION:Leszno\, Rynek\, Leszno\, Poland
CATEGORIES:Roadshow 2023
ORGANIZER;CN="Samorz%C4%85d Wojew%C3%B3dztwa Wielkopolskiego":MAILTO:h2wielkopolska@umww.pl
END:VEVENT
BEGIN:VEVENT
DTSTART;TZID=Europe/Warsaw:20230509T110000
DTEND;TZID=Europe/Warsaw:20230509T190000
DTSTAMP:20260423T165352
CREATED:20230407T210209Z
LAST-MODIFIED:20230418T115527Z
UID:14884-1683630000-1683658800@www.wodor.edu.pl
SUMMARY:Poznaj wodór: Leszno\, dzień 1
DESCRIPTION:Dowiecie się dlaczego zielone\, zero-emisyjne źródła energii są takie ważne. Zobaczycie i poznacie sprzęt\, który korzysta z wodoru jako paliwa. Dodatkowo będziecie mogli wziąć udział w mnóstwie interaktywnych zabaw\, konkursów\, atrakcji dla najmłodszych ( w tym strefa niesamowitych eksperymentów) Będą czekać na Was stoiska partnerskie\, ciekawe prelekcje\, spotkania z ludźmi\, którzy działają i stawiają na rozwiązania wodorowe. \nRezerwacja dla grup zorganizowanych / szkół: \nŁaduję…
URL:https://www.wodor.edu.pl/spotkanie/poznaj-wodor-leszno-2-2/
LOCATION:Leszno\, Rynek\, Leszno\, Poland
CATEGORIES:Roadshow 2023
ORGANIZER;CN="Samorz%C4%85d Wojew%C3%B3dztwa Wielkopolskiego":MAILTO:h2wielkopolska@umww.pl
END:VEVENT
BEGIN:VEVENT
DTSTART;TZID=Europe/Warsaw:20230506T110000
DTEND;TZID=Europe/Warsaw:20230506T190000
DTSTAMP:20260423T165352
CREATED:20230411T171659Z
LAST-MODIFIED:20230418T115418Z
UID:14896-1683370800-1683399600@www.wodor.edu.pl
SUMMARY:Poznaj wodór: Konin\, dzień 2
DESCRIPTION:Dowiecie się dlaczego zielone\, zero-emisyjne źródła energii są takie ważne. Zobaczycie i poznacie sprzęt\, który korzysta z wodoru jako paliwa. Dodatkowo będziecie mogli wziąć udział w mnóstwie interaktywnych zabaw\, konkursów\, atrakcji dla najmłodszych ( w tym strefa niesamowitych eksperymentów) Będą czekać na Was stoiska partnerskie\, ciekawe prelekcje\, spotkania z ludźmi\, którzy działają i stawiają na rozwiązania wodorowe. \nRezerwacja dla gru zorganizowanych / szkół: \nŁaduję…
URL:https://www.wodor.edu.pl/spotkanie/poznaj-wodor-konin-2-2/
LOCATION:Konin\, Plac Wolności\, Konin\, Poland
CATEGORIES:Roadshow 2023
ORGANIZER;CN="Samorz%C4%85d Wojew%C3%B3dztwa Wielkopolskiego":MAILTO:h2wielkopolska@umww.pl
END:VEVENT
BEGIN:VEVENT
DTSTART;TZID=Europe/Warsaw:20230505T110000
DTEND;TZID=Europe/Warsaw:20230505T190000
DTSTAMP:20260423T165352
CREATED:20230407T210319Z
LAST-MODIFIED:20230418T115443Z
UID:14887-1683284400-1683313200@www.wodor.edu.pl
SUMMARY:Poznaj wodór: Konin\, dzień 1
DESCRIPTION:Dowiecie się dlaczego zielone\, zero-emisyjne źródła energii są takie ważne. Zobaczycie i poznacie sprzęt\, który korzysta z wodoru jako paliwa. Dodatkowo będziecie mogli wziąć udział w mnóstwie interaktywnych zabaw\, konkursów\, atrakcji dla najmłodszych ( w tym strefa niesamowitych eksperymentów) Będą czekać na Was stoiska partnerskie\, ciekawe prelekcje\, spotkania z ludźmi\, którzy działają i stawiają na rozwiązania wodorowe. \nRezerwacja dla gru zorganizowanych / szkół: \nŁaduję…
URL:https://www.wodor.edu.pl/spotkanie/poznaj-wodor-konin-1/
LOCATION:Konin\, Plac Wolności\, Konin\, Poland
CATEGORIES:Roadshow 2023
ORGANIZER;CN="Samorz%C4%85d Wojew%C3%B3dztwa Wielkopolskiego":MAILTO:h2wielkopolska@umww.pl
END:VEVENT
BEGIN:VEVENT
DTSTART;TZID=Europe/Warsaw:20221025T130000
DTEND;TZID=Europe/Warsaw:20221025T190000
DTSTAMP:20260423T165352
CREATED:20220926T201650Z
LAST-MODIFIED:20221019T135233Z
UID:14703-1666702800-1666724400@www.wodor.edu.pl
SUMMARY:Poznaj Wodór: Poznań
DESCRIPTION:Prezentacje tematyczne z ekspertami: \n\n16:00		Działania Samorządu Województwa Wielkopolskiego w obszarze gospodarki wodorowej\, Urząd Marszałkowski Województwa Wielkopolskiego\n16:15		Projektowanie i budowa osiedla mieszkaniowego z wykorzystaniem zasilania wodorowego\, Adam Lewandowski\, Urząd Miejski w Śremie – Burmistrz\n16:30			Przedstawiciel miasta Piła\n16:45		Grupa ORLEN – lider we wdrażaniu mobilności wodorowej w Europie Środkowej\n17:00 Technologia Wodorowa Toyota Mirai\n17:15	Innowacyjne podejście do magazynowania\, detekcji oraz konwersji wodoru\, dr hab. Adam Rachocki\, prof. IFM PAN – zastępca dyrektora ds. naukowych\, dr inż. Paweł Ławniczak\, mgr inż. Mateusz Wachowiak\n17:30		Bezpieczeństwo przeciwwybuchowe w gospodarce wodorowej – wymagania prawne i normatywne\,	Damian Wróbel\, J.S. Hamilton Poland Sp. z o.o\n17:45		Powiązanie wodoru i transformacji energetycznej z bezpieczeństwem i stabilnością gospodarki\,	prof. Robert Przekop\, UAM\n18:00		Application of the Plasma-Driven Solution Electrolysis for Hydrogen Production and Wastewater Treatment	Sergii Bespalko\, Centrum Badań i Innowacji Pro-Academia\n18:15		Quo Vadis Hydrogen\,	dr inż. Łukasz Lindner\, Meet Hydrogen
URL:https://www.wodor.edu.pl/spotkanie/poznaj-wodor-poznan/
LOCATION:Poznań\, Dziedziniec Starego Browaru\, Poznań\, 61-888\, Poland
CATEGORIES:Roadshow 2022
ORGANIZER;CN="Samorz%C4%85d Wojew%C3%B3dztwa Wielkopolskiego":MAILTO:h2wielkopolska@umww.pl
END:VEVENT
BEGIN:VEVENT
DTSTART;TZID=Europe/Warsaw:20221024T110000
DTEND;TZID=Europe/Warsaw:20221024T170000
DTSTAMP:20260423T165352
CREATED:20220926T202052Z
LAST-MODIFIED:20221019T135219Z
UID:14711-1666609200-1666630800@www.wodor.edu.pl
SUMMARY:Poznaj Wodór: Piła
DESCRIPTION:Prezentacje tematyczne z ekspertami: \n\n14:00		Działania Samorządu Województwa Wielkopolskiego w obszarze gospodarki wodorowej	Urząd Marszałkowski Województwa Wielkopolskiego\n14:15	Przedstawiciel miasta Piła \n14:30		Grupa ORLEN – lider we wdrażaniu mobilności wodorowej w Europie Środkowej\n15:00	Innowacyjne podejście do magazynowania\, detekcji oraz konwersji wodoru\, dr hab. Adam Rachocki\, prof. IFM PAN – zastępca dyrektora ds. naukowych\, dr inż. Paweł Ławniczak\, mgr inż. Mateusz Wachowiak\n15:15		Quo Vadis Hydrogen\, dr inż. Łukasz Lindner\, Meet Hydrogen\n15:45 Technologia Wodorowa Toyota Mirai
URL:https://www.wodor.edu.pl/spotkanie/poznaj-wodor-pila/
LOCATION:Piła\, Plac Zwycięstwa\, Piła\, Poland
CATEGORIES:Roadshow 2022
ORGANIZER;CN="Samorz%C4%85d Wojew%C3%B3dztwa Wielkopolskiego":MAILTO:h2wielkopolska@umww.pl
END:VEVENT
BEGIN:VEVENT
DTSTART;TZID=Europe/Warsaw:20221023T110000
DTEND;TZID=Europe/Warsaw:20221023T170000
DTSTAMP:20260423T165352
CREATED:20220926T202021Z
LAST-MODIFIED:20221019T135246Z
UID:14709-1666522800-1666544400@www.wodor.edu.pl
SUMMARY:Poznaj Wodór: Leszno
DESCRIPTION:Prezentacje tematyczne z ekspertami: \n\n14:00	Działania Samorządu Województwa Wielkopolskiego w obszarze gospodarki wodorowej\, Urząd Marszałkowski Województwa Wielkopolskiego\n14:15		Przedstawiciel miasta Leszno – Dział rozwoju oraz Prezydent\n14:30	Grupa ORLEN – lider we wdrażaniu mobilności wodorowej w Europie Środkowej\n15:00	Innowacyjne podejście do magazynowania\, detekcji oraz konwersji wodoru\, dr hab. Adam Rachocki\, prof. IFM PAN – zastępca dyrektora ds. naukowych\, dr inż. Paweł Ławniczak\, mgr inż. Mateusz Wachowiak\n15:15		Metcon-BEST\n15:30	Quo Vadis Hydrogen\, dr inż. Łukasz Lindner\, Meet Hydrogen\n15:45 Technologia Wodorowa Toyota Mirai
URL:https://www.wodor.edu.pl/spotkanie/poznaj-wodor-leszno/
LOCATION:Leszno\, Rynek\, Leszno\, Poland
CATEGORIES:Roadshow 2022
ORGANIZER;CN="Samorz%C4%85d Wojew%C3%B3dztwa Wielkopolskiego":MAILTO:h2wielkopolska@umww.pl
END:VEVENT
BEGIN:VEVENT
DTSTART;TZID=Europe/Warsaw:20221022T110000
DTEND;TZID=Europe/Warsaw:20221022T170000
DTSTAMP:20260423T165352
CREATED:20220926T201853Z
LAST-MODIFIED:20221019T135258Z
UID:14707-1666436400-1666458000@www.wodor.edu.pl
SUMMARY:Poznaj Wodór: Ostrów Wielkopolski
DESCRIPTION:Prezentacje tematyczne z ekspertami: \n\n14:00	Działania Samorządu Województwa Wielkopolskiego w obszarze gospodarki wodorowej	Urząd Marszałkowski Województwa Wielkopolskiego\n14:15	Ostrowski Rynek Energetyczny i zielono-niebieskie rewolucja w mieście	Vice-Prezydent Mikołaj Kostka\n14:30	Grupa ORLEN – lider we wdrażaniu mobilności wodorowej w Europie Środkowe\n15:00	Innowacyjne podejście do magazynowania\, detekcji oraz konwersji wodoru\, dr hab. Adam Rachocki\, prof. IFM PAN – zastępca dyrektora ds. naukowych dr inż. Paweł Ławniczak\, mgr inż. Mateusz Wachowiak\n15:30	Quo Vadis Hydrogen\, dr inż. Łukasz Lindner\, Meet Hydrogen\n15:45 Technologia Wodorowa Toyota Mirai
URL:https://www.wodor.edu.pl/spotkanie/poznaj-wodor-ostrow-wielkopolski/
LOCATION:Ostrów Wielkopolski\, Park Miejski\, Ostrów Wielkopolski\, Poland
CATEGORIES:Roadshow 2022
ORGANIZER;CN="Samorz%C4%85d Wojew%C3%B3dztwa Wielkopolskiego":MAILTO:h2wielkopolska@umww.pl
END:VEVENT
BEGIN:VEVENT
DTSTART;TZID=Europe/Warsaw:20221021T110000
DTEND;TZID=Europe/Warsaw:20221021T170000
DTSTAMP:20260423T165352
CREATED:20220926T201750Z
LAST-MODIFIED:20221019T221243Z
UID:14705-1666350000-1666371600@www.wodor.edu.pl
SUMMARY:Poznaj Wodór: Kalisz
DESCRIPTION:Prezentacje tematyczne z ekspertami: \n\n14:00 Działania Samorządu Województwa Wielkopolskiego w obszarze gospodarki wodorowej\, Urząd Marszałkowski Województwa Wielkopolskiego\n14:15 Przedstawiciel miasta Kalisz (Prezydent\, dział Rozwoju Miasta)\n14:30 Grupa ORLEN – lider we wdrażaniu mobilności wodorowej w Europie Środkowej\n14:45 Polskie Górnictwo Naftowe i Gazownictwo SA\n15:00 Innowacyjne podejście do magazynowania\, detekcji oraz konwersji wodoru\, dr hab. Adam Rachocki\, prof. IFM PAN – zastępca dyrektora ds. naukowych dr inż. Paweł Ławniczak\, mgr inż. Mateusz Wachowiak\n15:15 Powiązanie wodoru i transformacji energetycznej z bezpieczeństwem i stabilnością gospodarki\, prof. Robert Przekop\, UAM\n15:30 Quo Vadis Hydrogen\, dr inż. Łukasz Lindner\, Meet Hydrogen\n15:45 Technologia Wodorowa Toyota Mirai
URL:https://www.wodor.edu.pl/spotkanie/poznaj-wodor-kalisz/
LOCATION:Kalisz\, Park Miejski\, Kalisz\, Poland
CATEGORIES:Roadshow 2022
ORGANIZER;CN="Samorz%C4%85d Wojew%C3%B3dztwa Wielkopolskiego":MAILTO:h2wielkopolska@umww.pl
END:VEVENT
BEGIN:VEVENT
DTSTART;TZID=Europe/Warsaw:20221020T110000
DTEND;TZID=Europe/Warsaw:20221020T170000
DTSTAMP:20260423T165352
CREATED:20220926T181735Z
LAST-MODIFIED:20221019T223931Z
UID:14645-1666263600-1666285200@www.wodor.edu.pl
SUMMARY:Poznaj Wodór: Konin
DESCRIPTION:Prezentacje tematyczne z ekspertami: \n\n	14:00	Działania Samorządu Województwa Wielkopolskiego w obszarze gospodarki wodorowej	Urząd Marszałkowski Województwa Wielkopolskiego\n14:15		Przedstawiciel miasta Konin\n14:30	Grupa ORLEN – lider we wdrażaniu mobilności wodorowej w Europie Środkowe\n14:45	HS Energy\n15:00	Innowacyjne podejście do magazynowania\, detekcji oraz konwersji wodoru\, dr hab. Adam Rachocki\, prof. IFM PAN – zastępca dyrektora ds. naukowych\, dr inż. Paweł Ławniczak\, mgr inż. Mateusz Wachowiak\n15:30	Quo Vadis Hydrogen\, dr inż.. Łukasz Lindner\, Meet Hydrogen\n15:45 Technologia Wodorowa Toyota Mirai
URL:https://www.wodor.edu.pl/spotkanie/poznaj-wodor-konin/
LOCATION:Konin\, Plac Wolności\, Konin\, Poland
CATEGORIES:Roadshow 2022
ORGANIZER;CN="Samorz%C4%85d Wojew%C3%B3dztwa Wielkopolskiego":MAILTO:h2wielkopolska@umww.pl
END:VEVENT
END:VCALENDAR